Workbook
Name ListBoxOutput: '1_Fiche projet'!$D$48
Name ListBoxSortie: '1_Fiche projet'!$D$48

Sheet ListesDeroulantes
B2: Catégorie de porteur : | C2: Sélectionnez via l'icône à droite en sélectionnant la cellule | E2: Thématiques | F2: Sélectionnez via l'icône à droite en sélectionnant la cellule
C3: Collectivité territoriale | F3: Santé globale/ Bien vieillir Nutrition
C4: Association | F4: Santé globale/ Bien vieillir Mémoire
C5: Service d'aide et d'accompagnement à domicile (SAAD) | F5: Santé globale/ Bien vieillir Sommeil
C6: Etablissement social et médico social | F6: Santé globale/ Bien vieillir Activités physiques et atelier équilibre/prévention des chutes
C7: Bailleur social | F7: Santé globale/ Bien vieillir Bien-être et estime de soi
C8: Société mutualiste | F8: Santé globale/ Bien vieillir Santé bucco-dentaire
C9: Autre | F9: Santé globale/ Bien vieillir Prévention de la dépression/du risque suicidaire
F10: Santé globale/ Bien vieillir Autres actions
B11: Statut juridique : | C11: Sélectionnez via l'icône à droite en sélectionnant la cellule | F11: Lien Social
C12: Personne morale de droit public ou privé à but non lucratif | F12: Habitat et cadre de vie
C13: Société commerciale du champ médico-social | F13: Mobilité (dont sécurité routière)
C14: Autre société commerciale | F14: Accès aux droits
F15: Usage du numérique
B16: Pluriannualité du projet : | C16: Sélectionnez via l'icône à droite en sélectionnant la cellule | F16: Préparation à la retraite
C17: Oui | F17: Autres actions collectives de prévention
C18: Non | F18: Aides techniques : Amélioration de l'accès
F19: Aides techniques : Autres actions
B20: Durée de la pluriannualité : | C20: Sélectionnez via l'icône à droite en sélectionnant la cellule | F20: Action de prévention menée par un SAD
C21: Deux ans | F21: Aide aux aidants/Formation destinées aux proches aidants
C22: Trois ans | F22: Aide aux aidants/Informations et sensibilisation
F23: Aide aux aidants/Soutien psychosocial
B24: Zone(s) géographique(s) | F24: Aide aux aidants/Prévention santé
B25: couverte(s) :
B26: par SCOT | C26: Bresse Bourguignonne
C27: Chalonnais
C28: CU Le Creusot - Montceau | E28: Niveau de satisfaction : | F28: Sélectionnez via l'icône à droite en sélectionnant la cellule
C29: Pays de l'Autunois Morvan | F29: Très satisfait
C30: Pays Charolais Brionnais | F30: Satisfait
C31: Mâconnais Sud Bourgogne | F31: Moyennement satisfait
C32: Saône-et-Loire | F32: Pas du tout satisfait
B33: par Communes
E35: Niveau de validation | F35: Sélectionnez via l'icône à droite en sélectionnant la cellule
F36: Engagement écrit du financeur
F37: Engagement oral du financeur
F38: En instruction par le financeur (avec date de retour définie)
F39: En instruction par le financeur (sans date de retour définie)
F40: A solliciter auprès du financeur

Sheet Aide au remplissage
B3: Pour répondre à l'appel à projet de la Commission des financeurs de Saône-et-Loire, vous devez :
B5: 1/ Compléter les feuilles 1 "Fiche Projet" et 2 "Objectifs et Indicateurs". N'hésitez pas à consulter les éléments de la feuille "4_Fiche_bilan" à renseigner lors du bilan de l'action calibrer l'évaluation de votre projet.
B7: 2/ Compléter impérativement la feuille 3 avec le budget prévisionnel de votre projet
B9: Pour rendre le bilan de votre projet à la Commission des financeurs de Saône-et-Loire, vous devez :
B11: 1/ Compléter la feuille "4_Fiche_bilan"
B13: 2/ Compléter la feuille 5 avec le budget réalisé de votre projet.

Sheet 1_Fiche projet
B4: Fiche de présentation du projet
B5: Commission des financeurs de la prévention de la perte d’autonomie (CFPPA) de Saône et Loire
B7: Appel à projets " Actions Collectives de Prévention" 2026
B12: PRESENTATION DE LA STRUCTURE
B13: Nom de la structure :
B14: Statut juridique : | C14: Sélectionnez via l'icône à droite en sélectionnant la cellule
B15: Catégorie de porteur : | C15: Sélectionnez via l'icône à droite en sélectionnant la cellule
B16: Adresse :
B17: Complément d'adresse :
B18: Code postal :
B19: Ville :
B20: N° de téléphone :
B21: Courriel :
B22: N° de SIRET : | C22: Joindre impérativement l'avis de situation du repertoire SIRENE (site de l'INSEE)
B23: Numéro RNA (Association) :
B24: Code APE :
B25: Représentant légal de la structure (destinataire des document administratifs : notifiaction, convention, avenant, ...le cas échéant)
B26: NOM - Prénom :
B27: Fonction :
B28: Courriel :
B29: N° de téléphone :
B30: Responsable du projet (personne à contacter concernant les aspects opérationnels du projet le cas échéant)
B31: NOM - Prénom :
B32: Fonction :
B33: Courriel :
B34: N° de téléphone :
B35: Coordonnées bancaires | C35: Joindre impérativement un RIB
B37: PRESENTATION DU PROJET
B38: Intitulé du projet :
B39: Acronyme (15 caractères maximum): L'acronyme doit permettre d'identifier spécifiquement le projet. 2 projets ne peuvent pas avoir le même acronyme.
B40: Thématique principale : | C40: Sélectionnez via l'icône à droite en sélectionnant la cellule
B41: Thématique(s) complémentaire(s) le cas échéant : | C41: Détaillez
B42: Nouveau projet : | C42: Sélectionnez via l'icône à droite en sélectionnant la cellule
B43: Besoin identifié auquel le projet répond : Précisez comment le besoin a été identifié, a évolué, et/ou ses modalités d'observation et la littérature associée. | C43: Besoin identifié comme insuffisamment couvert ou pris en compte.
B44: Description du projet : Veuillez détailler et expliquer chacune des actions prévues dans le cadre du projet présenté, comment le projet répond aux besoins identifiés.
B45: Votre projet comporte-t-il plusieurs types d'actions (ex: conférence, ateliers, …) ? | C45: Sélectionnez via l'icône à droite en sélectionnant la cellule | D45: Si oui, lesquelles :
B46: Nombre de session et calendrier prévisionnel (date, lieux et volume horaire) : Veuillez impérativement mentionner le volume des interventions prévus.
B47: Objectif général (à détailler dans l'onglet 2) | C47: Formuler un objectif général/principal
B48: Zone(s) géographique(s) couverte(s) : par SCOT (plusieurs sélections possibles) et par Communes
C49: Communes concernées (en MAJUSCULES avec tirets)
...

Sheet Fiche synthèse
A1: Intitulé du projet : | B1: ='1_Fiche projet'!C38 -> 0
A2: Acronyme (en cas d'intitulé supérieur à 25 caractères): | B2: ='1_Fiche projet'!C39 -> 0
A3: Thématique principale : | B3: ='1_Fiche projet'!C40 -> Sélectionnez via l'icône à droite en sélectionnant la cellule
A4: Description du projet : | B4: ='1_Fiche projet'!C44 -> 0
C5: Moyens utilisés | D5: Indicateurs d'évaluation
A6: Objectif général | B6: ='1_Fiche projet'!C47 -> Formuler un objectif général/principal | C6: ='2_Objectifs et Indicateurs'!D8 -> ex: 1 conférence théorique, 3 ateliers de mise en pratique puis 1 réunion d'échange à + 3mois pour retour d'expérience et partage de conseils. | D6: ='2_Objectifs et Indicateurs'!E8 -> ex: Nbre de personnes déclarant avoir acquis de nouvelles connaissances
A7: Objectif spécifique ou opérationnel 1 | B7: ='2_Objectifs et Indicateurs'!C9 -> ex: Informer des bienfaits d'une alimentation équilibrée | C7: ='2_Objectifs et Indicateurs'!D9 -> ex: 1 intervenant qualifié (diététicien), supportde présentation, documents INPES, … | D7: ='2_Objectifs et Indicateurs'!E9 -> ex: Nbre de personnes déclarant avoir acquis de nouvelles connaissances
A8: Objectif spécifique ou opérationnel 2 | B8: ='2_Objectifs et Indicateurs'!C10 -> ex: Transmettre des connaissances sur l'équilibre alimentaire après 60 ans | C8: ='2_Objectifs et Indicateurs'!D10 -> ex: 1 intervenant qualifié (diététicien), supportde présentation, documents INPES, … | D8: ='2_Objectifs et Indicateurs'!E10 -> ex: Nbre de personnes déclarant avoir acquis de nouvelles connaissances ET Nbre de personnes satisfaites par l'accessibilité du contenu
A9: Objectif spécifique ou opérationnel 3 | B9: ='2_Objectifs et Indicateurs'!C11 -> ex: Donner des conseils pratiques pour équilibrer son alimentation | C9: ='2_Objectifs et Indicateurs'!D11 -> ex: 3 ateliers de mise en pratique | D9: ='2_Objectifs et Indicateurs'!E11 -> ex: Nbre de personnes déclarant avoir acquis de nouvelles connaissances
A10: Objectif spécifique ou opérationnel 4 | B10: ='2_Objectifs et Indicateurs'!C12 -> ex: Sensibiliser sur les signes à repérer (perte ou prise de poids) | C10: ='2_Objectifs et Indicateurs'!D12 -> ex: 1 intervenant qualifié | D10: ='2_Objectifs et Indicateurs'!E12 -> ex: Nbre de personnes ayant retenues l'information transmise …
A11: Objectif spécifique ou opérationnel 5 | B11: ='2_Objectifs et Indicateurs'!C13 -> ex: Améliorer ou conforter les pratiques alimentaires des participants | C11: ='2_Objectifs et Indicateurs'!D13 -> ex: 3 ateliers de mise en pratique et 1 réunion d'échange à +3 mois | D11: ='2_Objectifs et Indicateurs'!E13 -> ex: Nbre de personnes ayant modifiées leur comportement alimentaire
A12: Objectif spécifique ou opérationnel 6 | B12: ='2_Objectifs et Indicateurs'!C14 -> ex: Favoriser l'échange et le partage autour de l'alimentation | C12: ='2_Objectifs et Indicateurs'!D14 -> ex: temps d'échange sur les idées reçues échange de recettes, … | D12: ='2_Objectifs et Indicateurs'!E14 -> ex: Nbre de personnes satisfaites de la convivialité, de l'accueil, …
A13: SCOT | B13: =ListBoxOutput -> 0
A14: Date(s) de démarrage du projet : | B14: ='1_Fiche projet'!C50 -> 0
A15: Date(s) de clôture du projet (ou, le cas échéant, de l'exercice concerné par la demande) : | B15: ='1_Fiche projet'!C55 -> 0
A16: Coût total du projet : | B16: ='1_Fiche projet'!C58 -> 0
A17: Montant demandé à la Conférence : | B17: ='1_Fiche projet'!C62 -> 0
A18: Plafonnement de la demande à hauteur de 80% du montant du projet : | B18: ='1_Fiche projet'!C63 -> 0
A19: Partenaires impliqués dans le projet : | B19: ='1_Fiche projet'!C76 -> 0
A20: Ressources humaines impliquées dans le projet: | B20: ='1_Fiche projet'!C75 -> Nature des contrats (CDD ou CDI), nombre d'ETP pour la réalisation du projet
A21: Compétences et qualifiations | B21: ='1_Fiche projet'!#REF! -> #REF!
A22: Nbr bénéficiaires : | B22: ='1_Fiche projet'!C79 -> Total du nombre de personne qui bénéficieront de l'action (prévisionnel)
A23: GIR 1-4 | B23: =SUM('1_Fiche projet'!D89:D92) -> 0
A24: GIR 5-6 & NG | B24: =SUM('1_Fiche projet'!D93:D95) -> 0
A25: NC | B25: ='1_Fiche projet'!D96 -> Nombre de personnes concernées
A26: Modalités de repérage et de mobilisation des bénéficiaires : | B26: ='1_Fiche projet'!C124 -> Exposer les moyens et la méthodologie par lesquels la structure va repérer et mobiliser les personnes âgées

Sheet 2_Objectifs et Indicateurs
B2: OBJECTIFS ET INDICATEURS
B3: Si votre projet comporte plusieurs types d'actions (ex: conférence, ateliers, …), merci de dupliquer la feuille 2 afin d'en remplir une par action.
B5: EVALUATION DU PROJET
B6: A remplir lors de la présentation du projet et la demande financement
B7: OBJECTIFS | D7: Moyens utilisés | E7: Indicateurs d'évaluation | F7: Résultats attendus (quantitatifs et qualitatifs)
B8: Objectif général : | C8: ex : Promouvoir une alimentation équilibrée chez les seniors | D8: ex: 1 conférence théorique, 3 ateliers de mise en pratique puis 1 réunion d'échange à + 3mois pour retour d'expérience et partage de conseils. | E8: ex: Nbre de personnes déclarant avoir acquis de nouvelles connaissances
B9: Objectif spécifique ou opérationnel 1 | C9: ex: Informer des bienfaits d'une alimentation équilibrée | D9: ex: 1 intervenant qualifié (diététicien), supportde présentation, documents INPES, … | E9: ex: Nbre de personnes déclarant avoir acquis de nouvelles connaissances
B10: Objectif spécifique ou opérationnel 2 | C10: ex: Transmettre des connaissances sur l'équilibre alimentaire après 60 ans | D10: ex: 1 intervenant qualifié (diététicien), supportde présentation, documents INPES, … | E10: ex: Nbre de personnes déclarant avoir acquis de nouvelles connaissances ET Nbre de personnes satisfaites par l'accessibilité du contenu
B11: Objectif spécifique ou opérationnel 3 | C11: ex: Donner des conseils pratiques pour équilibrer son alimentation | D11: ex: 3 ateliers de mise en pratique | E11: ex: Nbre de personnes déclarant avoir acquis de nouvelles connaissances
B12: Objectif spécifique ou opérationnel 4 | C12: ex: Sensibiliser sur les signes à repérer (perte ou prise de poids) | D12: ex: 1 intervenant qualifié | E12: ex: Nbre de personnes ayant retenues l'information transmise …
B13: Objectif spécifique ou opérationnel 5 | C13: ex: Améliorer ou conforter les pratiques alimentaires des participants | D13: ex: 3 ateliers de mise en pratique et 1 réunion d'échange à +3 mois | E13: ex: Nbre de personnes ayant modifiées leur comportement alimentaire
B14: Objectif spécifique ou opérationnel 6 | C14: ex: Favoriser l'échange et le partage autour de l'alimentation | D14: ex: temps d'échange sur les idées reçues échange de recettes, … | E14: ex: Nbre de personnes satisfaites de la convivialité, de l'accueil, …
B15: Insérer des lignes si besoin

Sheet 3_BudgetPrévisionnel
C2: BUDGET PREVISIONNEL DU PROJET
B5: Charges | C5: Montant sur 2025 ou les 12 premiers mois | D5: Montant sur les mois 13 à 24 (si action pluriannuelle) | E5: Montant sur les mois 25 à 36 (si action pluriannuelle) | F5: Description | G5: Produits | H5: Montant sur 2025 ou les 12 premiers mois | I5: Montant sur les mois 13 à 24 (si action pluriannuelle) | J5: Montant sur les mois 25 à 36 (si action pluriannuelle) | K5: Description
B6: 60 – Achat | C6: =SUM(C7:C11) -> 0 | D6: =SUM(D7:D11) -> 0 | E6: =SUM(E7:E11) -> 0 | G6: 70 – Vente de produits finis, prestations de services, marchandises | H6: =SUM(H7:H11) -> 0 | I6: =SUM(I7:I11) -> 0 | J6: =SUM(J7:J11) -> 0
B7: Achats d’études et de prestations de services | G7: Prestation de services
B8: Achats non stockés de matières et de fournitures | G8: Vente de marchandises
B9: Fournitures non stockables (eau, énergie) | G9: Produits des activités annexes
B10: Fournitures d’entretien et de petit équipement
B11: Autres fournitures
B12: 61 – Services extérieurs | C12: =SUM(C13:C18) -> 0 | D12: =SUM(D13:D18) -> 0 | E12: =SUM(E13:E18) -> 0 | G12: 74 Subventions d’exploitation | H12: =SUM(H13:H18) -> 0 | I12: =SUM(I13:I18) -> 0 | J12: =SUM(J13:J18) -> 0
B13: Sous-traitance générale | G13: Commission des financeurs (loi ASV)
B14: Locations | G14: Etat (précisez le(s) ministère(s) et/ou dispositif(s) sollicité(s))
B15: Entretien et réparation | G15: Région
B16: Assurances | G16: Conseil Départemental 71 (hors CFPPA)
B17: Documentation | G17: Département autres (précisez)
B18: Divers | G18: Commune(s) (précisez)
B19: 62 – Autres services extérieurs | C19: =SUM(C20:C24) -> 0 | D19: =SUM(D20:D24) -> 0 | E19: =SUM(E20:E24) -> 0 | G19: Fonds européens
B20: Rémunérations intermédiaires et honoraires | G20: Autres recettes (précisez)
B21: Publicité, publication
B22: Déplacements, missions
B23: Frais postaux et télécommunications
B24: Services bancaires et autres
B25: 63 – Impôts et taxes | C25: =SUM(C26:C27) -> 0 | D25: =SUM(D26:D27) -> 0 | E25: =SUM(E26:E27) -> 0
B26: Impôts et taxes sur rémunération
B27: Autres impôts et taxes
B28: 64 – Charges de personnel | C28: =SUM(C29:C30) -> 0 | D28: =SUM(D29:D30) -> 0 | E28: =SUM(E29:E30) -> 0
B29: Rémunération des personnels
B30: Autres charges de personnel
B31: 65 – Autres charges de gestion courante | C31: =SUM(C32) -> 0 | D31: =SUM(D32) -> 0 | E31: =SUM(E32) -> 0 | G31: 75 – Autres produits de gestion courante | H31: =SUM(H32) -> 0 | I31: =SUM(I32) -> 0 | J31: =SUM(J32) -> 0
B32: Précisez | G32: Dont cotisations
B33: 66 – Charges financières | C33: =0 -> 0 | D33: 0 | E33: 0 | G33: 76 – Produits financiers | H33: 0 | I33: 0 | J33: 0
B34: 67 – Charges exceptionnelles | C34: 0 | D34: 0 | E34: 0 | G34: 77 – Produits exceptionnels | H34: 0 | I34: 0 | J34: 0
B35: 68 – Dotation aux amortissements (provisions pour renouvellement) | C35: 0 | D35: 0 | E35: 0 | G35: 78 – Reprises sur amortissements et provisions | H35: 0 | I35: 0 | J35: 0
B36: 72 – Production immobilisée | C36: =SUM(C37:C38) -> 0 | D36: =SUM(D37:D38) -> 0 | E36: =SUM(E37:E38) -> 0 | G36: 79 – Transfert de charges | H36: =SUM(H37:H38) -> 0 | I36: =SUM(I37:I38) -> 0 | J36: =SUM(J37:J38) -> 0
B37: Immobilisations incorporelles
B38: Immobilisations corporelles
B39: TOTAL DES CHARGES | C39: =SUM(C33:C36,C31,C28,C25,C19,C12,C6) -> 0 | D39: =SUM(D33:D36,D31,D28,D25,D19,D12,D6) -> 0 | E39: =SUM(E33:E36,E31,E28,E25,E19,E12,E6) -> 0 | G39: TOTAL DES PRODUITS | H39: =SUM(H33:H36,H31,H12,H6) -> 0 | I39: =SUM(I33:I36,I31,I12,I6) -> 0 | J39: =SUM(J33:J36,J31,J12,J6) -> 0
C40: =SUM(C39:E39) -> 0 | H40: =SUM(H39:J39) -> 0
B43: 86 – Emplois des contributions volontaires en nature | C43: =SUM(C44:C46) -> 0 | D43: =SUM(D44:D46) -> 0 | E43: =SUM(E44:E46) -> 0 | G43: 87 – Contributions volontaires en nature | H43: =SUM(H44:H46) -> 0 | I43: =SUM(I44:I46) -> 0 | J43: =SUM(J44:J46) -> 0
B44: Secours en nature | G44: Bénévolat
B45: Mise à disposition gratuite de biens et de prestations | G45: Prestations en nature
...

Sheet 4_Fiche_bilan
B5: Recommandations pour remplir ce bilan : - La partie Dossier candidature se remplit automatiquement pour les projets annuels ou pour la 1ère année des projets pluriannuels lors de la complitude de l'onglet "1_Fiche projet" : veuillez ne pas renseigner cette colonne. - Si votre projet contient plusieurs actions (cf convention), veuillez dupliquer les onglets "4_Fiche_bilan" et "5_BudgetRéalisé" pour chaque action. - Toutes les cases "indicateurs" doivent être complétés conformément à la convention et aux attentes de la Caisse Nationale de Solidarité pour l'Autonomie. - Pour les projets pluriannuels, veuillez dupliquer les onglets "4_fiche_bilan" et "5_BudgetRéalisé" pour chaque action et par année.
B7: NOM DE LA STRUCTURE PORTEUSE: | C7: ='1_Fiche projet'!C13 -> 0
B8: INTITULE DE L'ACTION: | C8: ='1_Fiche projet'!C38 -> 0
B9: Thématique de l'action : | C9: ='1_Fiche projet'!C40 -> Sélectionnez via l'icône à droite en sélectionnant la cellule
B10: Type d'action :
B11: Si autres, type d'action:
B12: Communes Concernées: | C12: ='1_Fiche projet'!C49 -> Communes concernées (en MAJUSCULES avec tirets)
B13: Territoire concerné: | C13: ='1_Fiche projet'!D48 -> 0
B14: BILAN DE L'ACTION
C15: Dossier Candidature | D15: Bilan au réel
B16: Objectifs de l'action | E16: Remarque(s)
B17: Nombre d'actions | C17: =SUM('1_Fiche projet'!D45) -> 0
B18: Objectifs de l'action | C18: ='2_Objectifs et Indicateurs'!C8 -> ex : Promouvoir une alimentation équilibrée chez les seniors
B19: Indicateurs de mobilisation - Données hors actions "Aide aux aidants"
B20: Nombre de bénéficiaires
B21: Nombre de personnes handicapées vieillissantes de 55 à 59 ans | C21: ='1_Fiche projet'!D83 -> Nombre de personnes concernées
B22: Nombre de personnes de moins de 60 ans | C22: ='1_Fiche projet'!D88 -> Nombre de personnes concernées. Veuillez préciser les raisons amenant à cibler ce public, non-éligible aux financements CFPPA.
B23: Nombre de personnes de 60 à 69 ans | C23: ='1_Fiche projet'!D84 -> Nombre de personnes concernées
B24: Nombre de personnes de 70 à 79 ans | C24: ='1_Fiche projet'!D85 -> Nombre de personnes concernées
B25: Nombre de personnes de 80 à 89 ans | C25: ='1_Fiche projet'!D86 -> Nombre de personnes concernées
B26: Nombre de personnes de plus de 90 ans | C26: ='1_Fiche projet'!D87 -> Nombre de personnes concernées
B27: Total | C27: =SUM(C22:C26) -> 0 | D27: =SUM(D22:D26) -> 0
B28: Nbre de participants à la 1ere séance (si plusieurs séances) :
B29: Nbre de participants à la dernière séance :
B30: Nbre moyen de participant par séance :
B31: Sexe
B32: Nombre d'hommes
B33: Nombre de femmes
B34: Situation personnelle
B35: Nombre de personnes vivant en établissement pour personne âgée
B36: GIR
B37: Nombre de personnes en Gir 1 à 4 ou nombre de personnes bénéficiaires APA | C37: =SUM('1_Fiche projet'!D89:D92) -> 0
B38: Nombre de personnes en GIR 5 ou 6 et non Girés | C38: =SUM('1_Fiche projet'!D92:D94) -> 0
B39: Nombre de personnes GIR non connus | C39: =SUM('1_Fiche projet'!D94:D96) -> 0
B40: Indicateurs de mobilisation - Données pour les actions "Aide aux aidants"
B41: Nombre de bénéficiaires Aidants
B42: Nombre de personnes de moins de 26 ans | C42: ='1_Fiche projet'!D101 -> Nombre de personnes concernées
B43: Nombre de personnes de 26 à 49 ans | C43: ='1_Fiche projet'!D102 -> Nombre de personnes concernées
B44: Nombre de personnes de 50 à 59 ans | C44: ='1_Fiche projet'!D103 -> Nombre de personnes concernées
B45: Nombre de personnes de 60 à 69 ans | C45: ='1_Fiche projet'!D104 -> Nombre de personnes concernées
...

Sheet 5_BudgetRéalisé
B2: Recommandations pour remplir ce bilan : - Pour rappel, la CFPPA se positionne à hauteur maximum de 80 % du budget réel. - Veuillez valoriser la subvention de la CFPPA attribuée dans sa globalité (acompte, solde et éventuellement indexation sur l'inflation). Si il y a un delta entre les produits et les charges, veuillez bien préciser dans ce bilan les raisons de cet écart. - Certaines cases contiennent déjà une formule de calcul, nous vous demandons de veillez à leur cohérence.
B4: BILAN FINANCIER DU PROJET
B6: Charges | C6: Montant en € | D6: Produits | E6: Montant en € | F6: Remarques / Observations
B7: 60 – Achat | C7: =SUM(C8:C12) -> 0 | D7: 70 – Vente de produits finis, prestations de services, marchandises | E7: =SUM(E8:E12) -> 0
B8: Achats d’études et de prestations de services | D8: Prestation de services
B9: Achats non stockés de matières et de fournitures | D9: Vente de marchandises
B10: Fournitures non stockables (eau, énergie) | D10: Produits des activités annexes
B11: Fournitures d’entretien et de petit équipement
B12: Autres fournitures
B13: 61 – Services extérieurs | C13: =SUM(C14:C19) -> 0 | D13: 74 Subventions d’exploitation | E13: =SUM(E14:E31) -> 0
B14: Sous-traitance générale | D14: Commission des financeurs
B15: Locations | D15: Etat (précisez le(s) ministère(s) sollicité(s)
B16: Entretien et réparation
B17: Assurances
B18: Documentation
B19: Divers
B20: 62 – Autres services extérieurs | C20: =SUM(C21:C25) -> 0
B21: Rémunérations intermédiaires et honoraires | D21: Région
B22: Publicité, publication | D22: Conseil Départemental 71 (hors CFPPA)
B23: Déplacements, missions | D23: Département autres (précisez)
B24: Frais postaux et télécommunications | D24: Commune(s) (précisez)
B25: Services bancaires et autres | D25: Fonds européens
B26: 63 – Impôts et taxes | C26: =SUM(C27:C28) -> 0 | D26: Autres recettes (précisez)
B27: Impôts et taxes sur rémunération
B28: Autres impôts et taxes
B29: 64 – Charges de personnel | C29: =SUM(C30:C31) -> 0
B30: Rémunération des personnels
B31: Autres charges de personnel
B32: 65 – Autres charges de gestion courante | C32: 0 | D32: 75 – Autres produits de gestion courante | E32: 0
D33: Dont cotisations
B34: 66 – Charges financières | C34: 0 | D34: 76 – Produits financiers | E34: 0
B35: 67 – Charges exceptionnelles | C35: 0 | D35: 77 – Produits exceptionnels | E35: 0
B36: 68 – Dotation aux amortissements (provisions pour renouvellement) | C36: 0 | D36: 78 – Reprises sur amortissements et provisions | E36: 0
B37: 72 – Production immobilisée | C37: =SUM(C38:C39) -> 0 | D37: 79 – Transfert de charges | E37: 0
B38: Immobilisations incorporelles
B39: Immobilisations corporelles
B40: TOTAL DES CHARGES | C40: =SUM(C37,C36,C35,C34,C32,C29,C26,C20,C13,C7) -> 0 | D40: TOTAL DES PRODUITS | E40: =SUM(E37,E36,E35,E34,E32,E13,E7) -> 0
B42: 86 – Emplois des contributions volontaires en nature | C42: =SUM(C43:C45) -> 0 | D42: 87 – Contributions volontaires en nature | E42: =SUM(E43:E45) -> 0
B43: Secours en nature | D43: Bénévolat
B44: Mise à disposition gratuite de biens et de prestations | D44: Prestations en nature
...
